BEGIN:VCALENDAR
VERSION:2.0
PRODID:-//ChamberMaster//Event Calendar 2.0//EN
METHOD:PUBLISH
X-PUBLISHED-TTL:P3D
REFRESH-INTERVAL:P3D
CALSCALE:GREGORIAN
BEGIN:VEVENT
DTSTART:20140322T140000Z
DTEND:20140322T160000Z
X-MICROSOFT-CDO-ALLDAYEVENT:FALSE
SUMMARY:Concordia University Saturday Art School (Pre-Kindergarten)
DESCRIPTION:Concordia University Saturday Art School (Pre-Kindergarten)\n\n\n\nhttp://www.cune.edu
X-ALT-DESC;FMTTYPE=text/html:Concordia University Saturday Art School (Pre-Kindergarten)<br />\n<br />\n<a href="http://www.cune.edu">http://www.cune.edu</a>
LOCATION:Concordia University Brommer Art Center 800 North Columbia (main campus) Seward\, NE
UID:e.865.3517
SEQUENCE:3
DTSTAMP:20260421T130519Z
URL:https://business.cultivatesewardcounty.com/events/details/concordia-university-saturday-art-school-pre-kindergarten-03-22-2014-3517
END:VEVENT

END:VCALENDAR
