BEGIN:VCALENDAR
VERSION:2.0
PRODID:-//ChamberMaster//Event Calendar 2.0//EN
METHOD:PUBLISH
X-PUBLISHED-TTL:P3D
REFRESH-INTERVAL:P3D
CALSCALE:GREGORIAN
BEGIN:VEVENT
DTSTART:20140426T140000Z
DTEND:20140426T160000Z
X-MICROSOFT-CDO-ALLDAYEVENT:FALSE
SUMMARY:Concordia University Saturday Art School\, 5th & 6th grades
DESCRIPTION:Concordia University Saturday Art School\, 5th & 6th grades\n\n\n\nhttp://www.cune.edu
X-ALT-DESC;FMTTYPE=text/html:Concordia University Saturday Art School\, 5th &amp\; 6th grades<br />\n<br />\n<a href="http://www.cune.edu">http://www.cune.edu</a>
LOCATION:Concordia University Brommer Art Center 800 No Columbia (main campus) Seward\, NE
UID:e.865.3534
SEQUENCE:3
DTSTAMP:20260421T130447Z
URL:https://business.cultivatesewardcounty.com/events/details/concordia-university-saturday-art-school-5th-6th-grades-04-26-2014-3534
END:VEVENT

END:VCALENDAR
