BEGIN:VCALENDAR
VERSION:2.0
PRODID:-//ChamberMaster//Event Calendar 2.0//EN
METHOD:PUBLISH
X-PUBLISHED-TTL:P3D
REFRESH-INTERVAL:P3D
CALSCALE:GREGORIAN
BEGIN:VEVENT
DTSTART:20130322T010000Z
DTEND:20130322T023000Z
X-MICROSOFT-CDO-ALLDAYEVENT:FALSE
SUMMARY:Concordia University Osten Observatory Open House
DESCRIPTION:Visit the Concordia University Osten Observatory
X-ALT-DESC;FMTTYPE=text/html:Visit the Concordia University Osten Observatory&nbsp\;&nbsp\;&nbsp\;&nbsp\;
LOCATION:Concordia University 800 North Columbia Seward\, NE
UID:e.865.1766
SEQUENCE:3
DTSTAMP:20260422T044641Z
URL:https://business.cultivatesewardcounty.com/events/details/concordia-university-osten-observatory-open-house-03-21-2013-1766
END:VEVENT

END:VCALENDAR
