BEGIN:VCALENDAR
VERSION:2.0
PRODID:-//ChamberMaster//Event Calendar 2.0//EN
METHOD:PUBLISH
X-PUBLISHED-TTL:P3D
REFRESH-INTERVAL:P3D
CALSCALE:GREGORIAN
BEGIN:VEVENT
DTSTART:20140411T003000Z
DTEND:20140413T023000Z
X-MICROSOFT-CDO-ALLDAYEVENT:FALSE
SUMMARY:Concordia University One Act Play Festival
DESCRIPTION:Concordia University One Act Play Festival\n\n\n\nhttp://www.cune.edu
X-ALT-DESC;FMTTYPE=text/html:Concordia University One Act Play Festival<br />\n<br />\n<a href="http://www.cune.edu">http://www.cune.edu</a>
LOCATION:Concordia University Studio Theater\, Music Center 800 North Columbia (main campus) Seward\, NE
UID:e.865.3523
SEQUENCE:3
DTSTAMP:20260421T113725Z
URL:https://business.cultivatesewardcounty.com/events/details/concordia-university-one-act-play-festival-04-10-2014-3523
END:VEVENT

END:VCALENDAR
