BEGIN:VCALENDAR
VERSION:2.0
PRODID:-//ChamberMaster//Event Calendar 2.0//EN
METHOD:PUBLISH
X-PUBLISHED-TTL:P3D
REFRESH-INTERVAL:P3D
CALSCALE:GREGORIAN
BEGIN:VEVENT
DTSTART:20140409T010000Z
DTEND:20140409T023000Z
X-MICROSOFT-CDO-ALLDAYEVENT:FALSE
SUMMARY:Concordia University Observatory Show
DESCRIPTION:Concordia University Observatory Show
X-ALT-DESC;FMTTYPE=text/html:Concordia University Observatory Show
LOCATION:Concordia University Osten Observatory Directions: This observatory is off Hillcrest Street\, just east of the Walz Human Performance Complex parking lot. It is a small white rounded facility.
UID:e.865.3598
SEQUENCE:3
DTSTAMP:20260421T112831Z
URL:https://business.cultivatesewardcounty.com/events/details/concordia-university-observatory-show-04-08-2014-3598
END:VEVENT

END:VCALENDAR
