BEGIN:VCALENDAR
VERSION:2.0
PRODID:-//ChamberMaster//Event Calendar 2.0//EN
METHOD:PUBLISH
X-PUBLISHED-TTL:P3D
REFRESH-INTERVAL:P3D
CALSCALE:GREGORIAN
BEGIN:VEVENT
DTSTART:20130428T210000Z
DTEND:20130428T230000Z
X-MICROSOFT-CDO-ALLDAYEVENT:FALSE
SUMMARY:Concordia University Male Chorus & Women's Chorale Concert
DESCRIPTION:Concordia University Male Chorus and Women's Chorale Concert
X-ALT-DESC;FMTTYPE=text/html:Concordia University Male Chorus and Women&#39\;s Chorale Concert
LOCATION:St. Gregory the Great Seminary 800 Fletcher Road (off Hwy 15 between I-80 and Seward) Seward\, NE
UID:e.865.2078
SEQUENCE:3
DTSTAMP:20260422T032122Z
URL:https://business.cultivatesewardcounty.com/events/details/concordia-university-male-chorus-women-s-chorale-concert-04-28-2013-2078
END:VEVENT

END:VCALENDAR
