BEGIN:VCALENDAR
VERSION:2.0
PRODID:-//ChamberMaster//Event Calendar 2.0//EN
METHOD:PUBLISH
X-PUBLISHED-TTL:P3D
REFRESH-INTERVAL:P3D
CALSCALE:GREGORIAN
BEGIN:VEVENT
DTSTART:20140427T210000Z
DTEND:20140427T220000Z
X-MICROSOFT-CDO-ALLDAYEVENT:FALSE
SUMMARY:Concordia University Mal Chorus & Women's Chorale Concert
DESCRIPTION:Concordia University Male Chorus and Women's Choral Concert
X-ALT-DESC;FMTTYPE=text/html:Concordia University Male Chorus and Women&#39\;s Choral Concert
LOCATION:St. Gregory 800 Fletcher Road Seward\, NE
UID:e.865.3602
SEQUENCE:3
DTSTAMP:20260421T130634Z
URL:https://business.cultivatesewardcounty.com/events/details/concordia-university-mal-chorus-women-s-chorale-concert-04-27-2014-3602
END:VEVENT

END:VCALENDAR
