BEGIN:VCALENDAR
VERSION:2.0
PRODID:-//ChamberMaster//Event Calendar 2.0//EN
METHOD:PUBLISH
X-PUBLISHED-TTL:P3D
REFRESH-INTERVAL:P3D
CALSCALE:GREGORIAN
BEGIN:VEVENT
DTSTART:20130325T150000Z
DTEND:20130325T160000Z
X-MICROSOFT-CDO-ALLDAYEVENT:FALSE
SUMMARY:Concordia University Maehr Lecture Series
DESCRIPTION:Lecture by Dr. Merold Westphal
X-ALT-DESC;FMTTYPE=text/html:Lecture by Dr. Merold Westphal
LOCATION:Concordia University Weller Auditorium North Columbia St. Seward\, NE
UID:e.865.1903
SEQUENCE:3
DTSTAMP:20260422T044543Z
URL:https://business.cultivatesewardcounty.com/events/details/concordia-university-maehr-lecture-series-03-25-2013-1903
END:VEVENT

END:VCALENDAR
