BEGIN:VCALENDAR
VERSION:2.0
PRODID:-//ChamberMaster//Event Calendar 2.0//EN
METHOD:PUBLISH
X-PUBLISHED-TTL:P3D
REFRESH-INTERVAL:P3D
CALSCALE:GREGORIAN
BEGIN:VEVENT
DTSTART;VALUE=DATE:20130823
DTEND;VALUE=DATE:20130824
TRANSP:TRANSPARENT
X-MICROSOFT-CDO-ALLDAYEVENT:TRUE
SUMMARY:Concordia University Launch for Freshman Students
DESCRIPTION:Concordia University Launch for Freshman Students begins
X-ALT-DESC;FMTTYPE=text/html:Concordia University Launch for Freshman Students begins 
LOCATION:Concordia University 800 N. Columbia Ave. Seward\, NE
UID:e.865.2770
SEQUENCE:3
DTSTAMP:20260421T231016Z
URL:https://business.cultivatesewardcounty.com/events/details/concordia-university-launch-for-freshman-students-08-23-2013-2770
END:VEVENT

END:VCALENDAR
