BEGIN:VCALENDAR
VERSION:2.0
PRODID:-//ChamberMaster//Event Calendar 2.0//EN
METHOD:PUBLISH
X-PUBLISHED-TTL:P3D
REFRESH-INTERVAL:P3D
CALSCALE:GREGORIAN
BEGIN:VEVENT
DTSTART:20140322T003000Z
DTEND:20140323T003000Z
X-MICROSOFT-CDO-ALLDAYEVENT:FALSE
SUMMARY:Concordia University IMPROVables Performance
DESCRIPTION:Concordia University IMPROVables Performance  -  24-hour IMPROVAathon\n\n\n\nhttp://www.cune.edu
X-ALT-DESC;FMTTYPE=text/html:Concordia University&nbsp\;IMPROVables&nbsp\;Performance&nbsp\; -&nbsp\; 24-hour IMPROVAathon<br />\n<br />\n<a href="http://www.cune.edu">http://www.cune.edu</a>
LOCATION:Concordia University Studio Theatre\, Music Center 800 North Columbia Seward\, NE
UID:e.865.3516
SEQUENCE:3
DTSTAMP:20260421T130000Z
URL:https://business.cultivatesewardcounty.com/events/details/concordia-university-improvables-performance-03-21-2014-3516
END:VEVENT

END:VCALENDAR
