BEGIN:VCALENDAR
VERSION:2.0
PRODID:-//ChamberMaster//Event Calendar 2.0//EN
METHOD:PUBLISH
X-PUBLISHED-TTL:P3D
REFRESH-INTERVAL:P3D
CALSCALE:GREGORIAN
BEGIN:VEVENT
DTSTART:20140504T200000Z
DTEND:20140504T210000Z
X-MICROSOFT-CDO-ALLDAYEVENT:FALSE
SUMMARY:Concordia University Handbell Concert
DESCRIPTION:Concordia University Handbell Concert
X-ALT-DESC;FMTTYPE=text/html:Concordia University Handbell Concert&nbsp\;&nbsp\;&nbsp\;
LOCATION:Concordia University Recital Hall\, Music Center 800 North Columbia Seward\, NE
UID:e.865.3836
SEQUENCE:3
DTSTAMP:20260421T100551Z
URL:https://business.cultivatesewardcounty.com/events/details/concordia-university-handbell-concert-05-04-2014-3836
END:VEVENT

END:VCALENDAR
