BEGIN:VCALENDAR
VERSION:2.0
PRODID:-//ChamberMaster//Event Calendar 2.0//EN
METHOD:PUBLISH
X-PUBLISHED-TTL:P3D
REFRESH-INTERVAL:P3D
CALSCALE:GREGORIAN
BEGIN:VEVENT
DTSTART:20130914T223000Z
DTEND:20130914T234500Z
X-MICROSOFT-CDO-ALLDAYEVENT:FALSE
SUMMARY:Concordia University Football Fan Appreciation Day Tailgate
DESCRIPTION:Concordia University Football Fan Appreciation Day Tailgate for Concordia's first home game of the year (Concordia vs Hastings).
X-ALT-DESC;FMTTYPE=text/html:Concordia University Football Fan Appreciation Day Tailgate for Concordia&#39\;s first home game of the year (Concordia vs Hastings).&nbsp\; 
LOCATION:Concordia University 800 N Columbia Seward\, NE
UID:e.865.2908
SEQUENCE:3
DTSTAMP:20260421T204757Z
URL:https://business.cultivatesewardcounty.com/events/details/concordia-university-football-fan-appreciation-day-tailgate-09-14-2013-2908
END:VEVENT

END:VCALENDAR
