BEGIN:VCALENDAR
VERSION:2.0
PRODID:-//ChamberMaster//Event Calendar 2.0//EN
METHOD:PUBLISH
X-PUBLISHED-TTL:P3D
REFRESH-INTERVAL:P3D
CALSCALE:GREGORIAN
BEGIN:VEVENT
DTSTART;VALUE=DATE:20130826
DTEND;VALUE=DATE:20130827
TRANSP:TRANSPARENT
X-MICROSOFT-CDO-ALLDAYEVENT:TRUE
SUMMARY:Concordia University Fall Classes begin
DESCRIPTION:Concordia University Fall Classes begin\n\n\n\n\n\nhttp://www.cune.edu
X-ALT-DESC;FMTTYPE=text/html:Concordia University Fall Classes begin<br />\n<br />\n<br />\n<a href="http://www.cune.edu">http://www.cune.edu </a>
LOCATION:Concordia University 800 N. Columbia Ave. Seward\, NE
UID:e.865.2771
SEQUENCE:3
DTSTAMP:20260421T214036Z
URL:https://business.cultivatesewardcounty.com/events/details/concordia-university-fall-classes-begin-08-26-2013-2771
END:VEVENT

END:VCALENDAR
