BEGIN:VCALENDAR
VERSION:2.0
PRODID:-//ChamberMaster//Event Calendar 2.0//EN
METHOD:PUBLISH
X-PUBLISHED-TTL:P3D
REFRESH-INTERVAL:P3D
CALSCALE:GREGORIAN
BEGIN:VEVENT
DTSTART;VALUE=DATE:20110615
DTEND;VALUE=DATE:20110616
TRANSP:TRANSPARENT
X-MICROSOFT-CDO-ALLDAYEVENT:TRUE
SUMMARY:Concordia University Early Childhood Conference
DESCRIPTION:Concordia University\, Seward will host a Early Childhood Conference
X-ALT-DESC;FMTTYPE=text/html:Concordia University\, Seward will host a Early Childhood Conference
LOCATION:
UID:e.865.1097
SEQUENCE:3
DTSTAMP:20260424T231708Z
URL:https://business.cultivatesewardcounty.com/events/details/concordia-university-early-childhood-conference-06-15-2011-1097
END:VEVENT

END:VCALENDAR
