BEGIN:VCALENDAR
VERSION:2.0
PRODID:-//ChamberMaster//Event Calendar 2.0//EN
METHOD:PUBLISH
X-PUBLISHED-TTL:P3D
REFRESH-INTERVAL:P3D
CALSCALE:GREGORIAN
BEGIN:VEVENT
DTSTART;VALUE=DATE:20110615
DTEND;VALUE=DATE:20110619
TRANSP:TRANSPARENT
X-MICROSOFT-CDO-ALLDAYEVENT:TRUE
SUMMARY:Concordia University Deaconess Conference
DESCRIPTION:Concordia University\, Seward will host the Deaconess Conference
X-ALT-DESC;FMTTYPE=text/html:Concordia University\, Seward will host the Deaconess Conference
LOCATION:
UID:e.865.1098
SEQUENCE:3
DTSTAMP:20260424T215923Z
URL:https://business.cultivatesewardcounty.com/events/details/concordia-university-deaconess-conference-06-15-2011-1098
END:VEVENT

END:VCALENDAR
