BEGIN:VCALENDAR
VERSION:2.0
PRODID:-//ChamberMaster//Event Calendar 2.0//EN
METHOD:PUBLISH
X-PUBLISHED-TTL:P3D
REFRESH-INTERVAL:P3D
CALSCALE:GREGORIAN
BEGIN:VEVENT
DTSTART:20140429T000000Z
DTEND:20140429T020000Z
X-MICROSOFT-CDO-ALLDAYEVENT:FALSE
SUMMARY:Concordia University Concert Band and Brass Ensemble Concert
DESCRIPTION:Concordia University Concert Band andf Brass Ensemble Concert\n\n\n\nhttp://www.cune.edu
X-ALT-DESC;FMTTYPE=text/html:Concordia University Concert Band andf Brass Ensemble Concert<br />\n<br />\n<a href="http://www.cune.edu">http://www.cune.edu</a>
LOCATION:St. John Lutheran Church 919 North Columbia Seward\, NE
UID:e.865.3535
SEQUENCE:3
DTSTAMP:20260421T114704Z
URL:https://business.cultivatesewardcounty.com/events/details/concordia-university-concert-band-and-brass-ensemble-concert-04-28-2014-3535
END:VEVENT

END:VCALENDAR
