BEGIN:VCALENDAR
VERSION:2.0
PRODID:-//ChamberMaster//Event Calendar 2.0//EN
METHOD:PUBLISH
X-PUBLISHED-TTL:P3D
REFRESH-INTERVAL:P3D
CALSCALE:GREGORIAN
BEGIN:VEVENT
DTSTART:20130511T150000Z
DTEND:20130511T170000Z
X-MICROSOFT-CDO-ALLDAYEVENT:FALSE
SUMMARY:Concordia University Commencement
DESCRIPTION:Concordia University Commencement\n\n\n\ncune.edu/commencement
X-ALT-DESC;FMTTYPE=text/html:Concordia University Commencement<br />\n<br />\n<a href="http://cune.edu/commencement"><u><font color="#0066cc">cune.edu/commencement</font></u></a>
LOCATION:Concordia University Walz Arena 800 N. Columbia Avenue Seward\, NE
UID:e.865.2106
SEQUENCE:3
DTSTAMP:20260422T014450Z
URL:https://business.cultivatesewardcounty.com/events/details/concordia-university-commencement-05-11-2013-2106
END:VEVENT

END:VCALENDAR
