BEGIN:VCALENDAR
VERSION:2.0
PRODID:-//ChamberMaster//Event Calendar 2.0//EN
METHOD:PUBLISH
X-PUBLISHED-TTL:P3D
REFRESH-INTERVAL:P3D
CALSCALE:GREGORIAN
BEGIN:VEVENT
DTSTART:20140510T150000Z
DTEND:20140510T163000Z
X-MICROSOFT-CDO-ALLDAYEVENT:FALSE
SUMMARY:Concordia University Commencement
DESCRIPTION:Concordia University Commencement
X-ALT-DESC;FMTTYPE=text/html:Concordia University Commencement
LOCATION:Concordia University Walz Arena 800 N Columbia Avenue Seward\, NE
UID:e.865.3838
SEQUENCE:3
DTSTAMP:20260421T095326Z
URL:https://business.cultivatesewardcounty.com/events/details/concordia-university-commencement-05-10-2014-3838
END:VEVENT

END:VCALENDAR
