BEGIN:VCALENDAR
VERSION:2.0
PRODID:-//ChamberMaster//Event Calendar 2.0//EN
METHOD:PUBLISH
X-PUBLISHED-TTL:P3D
REFRESH-INTERVAL:P3D
CALSCALE:GREGORIAN
BEGIN:VEVENT
DTSTART:20140412T200000Z
DTEND:20140412T223000Z
X-MICROSOFT-CDO-ALLDAYEVENT:FALSE
SUMMARY:Concordia University Chamber Choir Concert
DESCRIPTION:Concordia University Chamber Choir Concert
X-ALT-DESC;FMTTYPE=text/html:Concordia University Chamber Choir Concert
LOCATION:St. John's Church 919 North Columbia Seward\, NE
UID:e.865.3600
SEQUENCE:3
DTSTAMP:20260421T113618Z
URL:https://business.cultivatesewardcounty.com/events/details/concordia-university-chamber-choir-concert-04-12-2014-3600
END:VEVENT

END:VCALENDAR
