BEGIN:VCALENDAR
VERSION:2.0
PRODID:-//ChamberMaster//Event Calendar 2.0//EN
METHOD:PUBLISH
X-PUBLISHED-TTL:P3D
REFRESH-INTERVAL:P3D
CALSCALE:GREGORIAN
BEGIN:VEVENT
DTSTART:20130430T000000Z
DTEND:20130430T020000Z
X-MICROSOFT-CDO-ALLDAYEVENT:FALSE
SUMMARY:Concordia University Bank Concert
DESCRIPTION:Concordia University Band Concert
X-ALT-DESC;FMTTYPE=text/html:Concordia University Band Concert&nbsp\;&nbsp\;&nbsp\;&nbsp\;
LOCATION:St. John's Lutheran Church 919 North Columbia Seward\, NE
UID:e.865.2079
SEQUENCE:3
DTSTAMP:20260422T044746Z
URL:https://business.cultivatesewardcounty.com/events/details/concordia-university-bank-concert-04-29-2013-2079
END:VEVENT

END:VCALENDAR
