BEGIN:VCALENDAR
VERSION:2.0
PRODID:-//ChamberMaster//Event Calendar 2.0//EN
METHOD:PUBLISH
X-PUBLISHED-TTL:P3D
REFRESH-INTERVAL:P3D
CALSCALE:GREGORIAN
BEGIN:VEVENT
DTSTART:20130511T000000Z
DTEND:20130511T020000Z
X-MICROSOFT-CDO-ALLDAYEVENT:FALSE
SUMMARY:Concordia University Baccalaureate Service
DESCRIPTION:Concordia University Baccalaureate Service\n\n\n\ncune.edu/commencement
X-ALT-DESC;FMTTYPE=text/html:Concordia University Baccalaureate Service<br />\n<br />\n<a href="http://cune.edu/commencement"><u><font color="#0066cc">cune.edu/commencement</font></u></a>
LOCATION:St. John Lutheran Church 919 N Columbia Seward\, NE
UID:e.865.2105
SEQUENCE:3
DTSTAMP:20260422T014604Z
URL:https://business.cultivatesewardcounty.com/events/details/concordia-university-baccalaureate-service-05-10-2013-2105
END:VEVENT

END:VCALENDAR
