BEGIN:VCALENDAR
VERSION:2.0
PRODID:-//ChamberMaster//Event Calendar 2.0//EN
METHOD:PUBLISH
X-PUBLISHED-TTL:P3D
REFRESH-INTERVAL:P3D
CALSCALE:GREGORIAN
BEGIN:VEVENT
DTSTART:20140510T000000Z
DTEND:20140510T010000Z
X-MICROSOFT-CDO-ALLDAYEVENT:FALSE
SUMMARY:Concordia University Baccalaureate
DESCRIPTION:Concordia University Baccalaureate
X-ALT-DESC;FMTTYPE=text/html:Concordia University Baccalaureate
LOCATION:St. John's Lutheran Church 919 North Columbia Avenue Seward\, NE
UID:e.865.3837
SEQUENCE:3
DTSTAMP:20260421T100405Z
URL:https://business.cultivatesewardcounty.com/events/details/concordia-university-baccalaureate-05-09-2014-3837
END:VEVENT

END:VCALENDAR
