BEGIN:VCALENDAR
VERSION:2.0
PRODID:-//ChamberMaster//Event Calendar 2.0//EN
METHOD:PUBLISH
X-PUBLISHED-TTL:P3D
REFRESH-INTERVAL:P3D
CALSCALE:GREGORIAN
BEGIN:VEVENT
DTSTART:20130323T003000Z
DTEND:20130324T003000Z
X-MICROSOFT-CDO-ALLDAYEVENT:FALSE
SUMMARY:Concordia University 24 hour IMPROVathon
DESCRIPTION:Concordia University 24 hour IMPROVathan
X-ALT-DESC;FMTTYPE=text/html:Concordia University 24 hour IMPROVathan
LOCATION:Concordia University IMPROVables Janzow Center
UID:e.865.1898
SEQUENCE:3
DTSTAMP:20260422T054957Z
URL:https://business.cultivatesewardcounty.com/events/details/concordia-university-24-hour-improvathon-03-22-2013-1898
END:VEVENT

END:VCALENDAR
