BEGIN:VCALENDAR
VERSION:2.0
PRODID:-//ChamberMaster//Event Calendar 2.0//EN
METHOD:PUBLISH
X-PUBLISHED-TTL:P3D
REFRESH-INTERVAL:P3D
CALSCALE:GREGORIAN
BEGIN:VEVENT
DTSTART:20140618T130000Z
DTEND:20140618T213000Z
X-MICROSOFT-CDO-ALLDAYEVENT:FALSE
SUMMARY:Concordia University 2014 Early Childhood Conference
DESCRIPTION:Concordia University 2014 Early Childhood Conference\n\n\n\nhttp://www.cune.edu/about/conferences-and-camps/early-childhood-conference/
X-ALT-DESC;FMTTYPE=text/html:Concordia University 2014 Early Childhood Conference<br />\n<br />\n<a href="http://www.cune.edu/about/conferences-and-camps/early-childhood-conference/">http://www.cune.edu/about/conferences-and-camps/early-childhood-conference/</a>
LOCATION:Concordia University Campus 800 North Columbia Ave. Seward\, NE
UID:e.865.3839
SEQUENCE:3
DTSTAMP:20260421T083249Z
URL:https://business.cultivatesewardcounty.com/events/details/concordia-university-2014-early-childhood-conference-06-18-2014-3839
END:VEVENT

END:VCALENDAR
