BEGIN:VCALENDAR
VERSION:2.0
PRODID:-//ChamberMaster//Event Calendar 2.0//EN
METHOD:PUBLISH
X-PUBLISHED-TTL:P3D
REFRESH-INTERVAL:P3D
CALSCALE:GREGORIAN
BEGIN:VEVENT
DTSTART:20121209T183000Z
DTEND:20121209T223000Z
X-MICROSOFT-CDO-ALLDAYEVENT:FALSE
SUMMARY:Concordia Scholarship Parade of Homes
DESCRIPTION:Parade of Home to benefit Concordia University Scholarship fund.
X-ALT-DESC;FMTTYPE=text/html:Parade of Home to benefit Concordia University Scholarship fund.&nbsp\;&nbsp\;&nbsp\; &nbsp\;&nbsp\;&nbsp\; 
LOCATION:TBA
UID:e.865.1712
SEQUENCE:3
DTSTAMP:20260422T102402Z
URL:https://business.cultivatesewardcounty.com/events/details/concordia-scholarship-parade-of-homes-12-09-2012-1712
END:VEVENT

END:VCALENDAR
