BEGIN:VCALENDAR
VERSION:2.0
PRODID:-//ChamberMaster//Event Calendar 2.0//EN
METHOD:PUBLISH
X-PUBLISHED-TTL:P3D
REFRESH-INTERVAL:P3D
CALSCALE:GREGORIAN
BEGIN:VEVENT
DTSTART:20130504T000000Z
DTEND:20130504T010000Z
X-MICROSOFT-CDO-ALLDAYEVENT:FALSE
SUMMARY:Concordia Jazz Concert at Hillcrest E-Free Church
DESCRIPTION:Concordia Jazz Concert at Hillcrest Evangelical Free Church
X-ALT-DESC;FMTTYPE=text/html:Concordia Jazz Concert at Hillcrest Evangelical Free Church
LOCATION:Hillcrest Evangelical Free Church 2433 Progressive Road Seward\, NE
UID:e.865.2096
SEQUENCE:3
DTSTAMP:20260422T015559Z
URL:https://business.cultivatesewardcounty.com/events/details/concordia-jazz-concert-at-hillcrest-e-free-church-05-03-2013-2096
END:VEVENT

END:VCALENDAR
