BEGIN:VCALENDAR
VERSION:2.0
PRODID:-//ChamberMaster//Event Calendar 2.0//EN
METHOD:PUBLISH
X-PUBLISHED-TTL:P3D
REFRESH-INTERVAL:P3D
CALSCALE:GREGORIAN
BEGIN:VEVENT
DTSTART:20130505T200000Z
DTEND:20130505T220000Z
X-MICROSOFT-CDO-ALLDAYEVENT:FALSE
SUMMARY:Concordia Hanbell Concert
DESCRIPTION:Concordia University Handbell Concert\n\n\n\nwww.cune.edu
X-ALT-DESC;FMTTYPE=text/html:Concordia University Handbell Concert<br />\n<br />\n<a href="http://www.cune.edu">www.cune.edu</a>
LOCATION:Concordia University Recital Hall Music Center 800 North Columbia Ave. Seward\, NE
UID:e.865.2104
SEQUENCE:3
DTSTAMP:20260422T014705Z
URL:https://business.cultivatesewardcounty.com/events/details/concordia-hanbell-concert-05-05-2013-2104
END:VEVENT

END:VCALENDAR
