BEGIN:VCALENDAR
VERSION:2.0
PRODID:-//ChamberMaster//Event Calendar 2.0//EN
METHOD:PUBLISH
X-PUBLISHED-TTL:P3D
REFRESH-INTERVAL:P3D
CALSCALE:GREGORIAN
BEGIN:VEVENT
DTSTART:20140301T013000Z
DTEND:20140303T033000Z
X-MICROSOFT-CDO-ALLDAYEVENT:FALSE
SUMMARY:Concordia Dessert Theatre Event
DESCRIPTION:Concordia Dessert Theatre Event  -  Radio Suspense Theatre\n\n\n\nhttp://www.cune.edu
X-ALT-DESC;FMTTYPE=text/html:Concordia Dessert Theatre Event&nbsp\; -&nbsp\; Radio Suspense Theatre<br />\n<br />\n<a href="http://www.cune.edu">http://www.cune.edu</a>
LOCATION:Concordia University Janzow Campus Center - Cattle Conference Room East Lincoln Street (off Columbia St.) Seward\, NE
UID:e.865.3515
SEQUENCE:3
DTSTAMP:20260421T130345Z
URL:https://business.cultivatesewardcounty.com/events/details/concordia-dessert-theatre-event-02-28-2014-3515
END:VEVENT

END:VCALENDAR
