BEGIN:VCALENDAR
VERSION:2.0
PRODID:-//ChamberMaster//Event Calendar 2.0//EN
METHOD:PUBLISH
X-PUBLISHED-TTL:P3D
REFRESH-INTERVAL:P3D
CALSCALE:GREGORIAN
BEGIN:VEVENT
DTSTART:20130502T000000Z
DTEND:20130502T020000Z
X-MICROSOFT-CDO-ALLDAYEVENT:FALSE
SUMMARY:Concordia Chamber Orchestra Concert
DESCRIPTION:Concordia Chamber Orchestra Concert
X-ALT-DESC;FMTTYPE=text/html:Concordia Chamber Orchestra Concert
LOCATION:Concordia University Music Center Recital Hall\\ 800 North Columbia Ave Seward\, NE
UID:e.865.2103
SEQUENCE:3
DTSTAMP:20260422T015233Z
URL:https://business.cultivatesewardcounty.com/events/details/concordia-chamber-orchestra-concert-05-01-2013-2103
END:VEVENT

END:VCALENDAR
