BEGIN:VCALENDAR
VERSION:2.0
PRODID:-//ChamberMaster//Event Calendar 2.0//EN
METHOD:PUBLISH
X-PUBLISHED-TTL:P3D
REFRESH-INTERVAL:P3D
CALSCALE:GREGORIAN
BEGIN:VEVENT
DTSTART:20131024T000000Z
DTEND:20131024T013000Z
X-MICROSOFT-CDO-ALLDAYEVENT:FALSE
SUMMARY:Concert by "Captive Free"at St. John Lutheran Church
DESCRIPTION:Concert by "Captive Free" a relational music ministry team sponsored by Youth Encounter will be performing at the St. John Lutheran Church.  Youth of all ages (especially Junior High - College) are invited to an inspiring time of Christian music\, games\, skits and personal sharing. \n\nhttps://www.facebook.com/events/579906238712367/
X-ALT-DESC;FMTTYPE=text/html:Concert by &quot\;Captive Free&quot\; a relational music ministry team sponsored by Youth Encounter will be performing at the St. John Lutheran Church.&nbsp\; Youth of all ages (especially Junior High - College) are invited to an inspiring time of Christian music\, games\, skits and personal sharing.&nbsp\;<br />\n<a href="https://www.facebook.com/events/579906238712367/">https://www.facebook.com/events/579906238712367/</a>
LOCATION:St. John's Lutheran Church 919 North Columbia Seward\, NE
UID:e.865.3402
SEQUENCE:3
DTSTAMP:20260421T193825Z
URL:https://business.cultivatesewardcounty.com/events/details/concert-by-captive-free-at-st-john-lutheran-church-10-23-2013-3402
END:VEVENT

END:VCALENDAR
