BEGIN:VCALENDAR
VERSION:2.0
PRODID:-//ChamberMaster//Event Calendar 2.0//EN
METHOD:PUBLISH
X-PUBLISHED-TTL:P3D
REFRESH-INTERVAL:P3D
CALSCALE:GREGORIAN
BEGIN:VEVENT
DTSTART:20110918T180000Z
DTEND:20110918T200000Z
X-MICROSOFT-CDO-ALLDAYEVENT:FALSE
SUMMARY:Community Reception for Dr. Gabriel - Seward\, NE
DESCRIPTION:The public is invited as we welcome Dr. Joel Gabriel to the staff of Seward Memorial Hospital in Seward\, NE.  Come meet Dr. Gabriel and his family and enjoy some refreshments.
X-ALT-DESC;FMTTYPE=text/html:The public is invited as we welcome Dr. Joel Gabriel to the staff of Seward Memorial Hospital in Seward\, NE.&nbsp\; Come meet Dr. Gabriel and his family and enjoy some refreshments.
LOCATION:Seward Family Medical Center\, 300 N. Columbia Ave.\, Seward\, NE in the Lobby
UID:e.865.1142
SEQUENCE:3
DTSTAMP:20260424T171903Z
URL:https://business.cultivatesewardcounty.com/events/details/community-reception-for-dr-gabriel-seward-ne-09-18-2011-1142
END:VEVENT

END:VCALENDAR
