BEGIN:VCALENDAR
VERSION:2.0
PRODID:-//ChamberMaster//Event Calendar 2.0//EN
METHOD:PUBLISH
X-PUBLISHED-TTL:P3D
REFRESH-INTERVAL:P3D
CALSCALE:GREGORIAN
BEGIN:VEVENT
DTSTART:20111006T150000Z
DTEND:20111006T230000Z
X-MICROSOFT-CDO-ALLDAYEVENT:FALSE
SUMMARY:Community Flu Shots
DESCRIPTION:Community Flu Shots
X-ALT-DESC;FMTTYPE=text/html:Community Flu Shots
LOCATION:Seward Family Medical Center 300 N. Columbia Ave. Seward\, NE
UID:e.865.1151
SEQUENCE:3
DTSTAMP:20260424T154618Z
URL:https://business.cultivatesewardcounty.com/events/details/community-flu-shots-10-06-2011-1151
END:VEVENT

END:VCALENDAR
