BEGIN:VCALENDAR
VERSION:2.0
PRODID:-//ChamberMaster//Event Calendar 2.0//EN
METHOD:PUBLISH
X-PUBLISHED-TTL:P3D
REFRESH-INTERVAL:P3D
CALSCALE:GREGORIAN
BEGIN:VEVENT
DTSTART:20121127T200000Z
DTEND:20121128T003000Z
X-MICROSOFT-CDO-ALLDAYEVENT:FALSE
SUMMARY:Cobblestone Hotel & Suites
DESCRIPTION:We are new in town and would like to meet you. Please stop by for a visit at our Open House.
X-ALT-DESC;FMTTYPE=text/html:We are new in town and would like to meet you. Please stop by for a visit at our Open House.
LOCATION:2575 Progressive Ave.
UID:e.865.1736
SEQUENCE:3
DTSTAMP:20260422T112934Z
URL:https://business.cultivatesewardcounty.com/events/details/cobblestone-hotel-suites-11-27-2012-1736
END:VEVENT

END:VCALENDAR
