BEGIN:VCALENDAR
VERSION:2.0
PRODID:-//ChamberMaster//Event Calendar 2.0//EN
METHOD:PUBLISH
X-PUBLISHED-TTL:P3D
REFRESH-INTERVAL:P3D
CALSCALE:GREGORIAN
BEGIN:VEVENT
DTSTART:20120519T130000Z
DTEND:20120519T220000Z
X-MICROSOFT-CDO-ALLDAYEVENT:FALSE
SUMMARY:City Wide Garage Sales
DESCRIPTION:City Wide Garage Sales.
X-ALT-DESC;FMTTYPE=text/html:City Wide Garage Sales.&nbsp\;&nbsp\;&nbsp\; 
LOCATION:
UID:e.865.1394
SEQUENCE:3
DTSTAMP:20260422T201638Z
URL:https://business.cultivatesewardcounty.com/events/details/city-wide-garage-sales-05-19-2012-1394
END:VEVENT

END:VCALENDAR
