BEGIN:VCALENDAR
VERSION:2.0
PRODID:-//ChamberMaster//Event Calendar 2.0//EN
METHOD:PUBLISH
X-PUBLISHED-TTL:P3D
REFRESH-INTERVAL:P3D
CALSCALE:GREGORIAN
BEGIN:VEVENT
DTSTART:20130605T000000Z
DTEND:20130605T010000Z
X-MICROSOFT-CDO-ALLDAYEVENT:FALSE
SUMMARY:City Council Meeting
DESCRIPTION:City Council Meeting
X-ALT-DESC;FMTTYPE=text/html:City Council Meeting
LOCATION:City Municipal Building 142 North 7th St. Seward\, NE
UID:e.865.1932
SEQUENCE:3
DTSTAMP:20260422T014731Z
URL:https://business.cultivatesewardcounty.com/events/details/city-council-meeting-06-04-2013-1932
END:VEVENT

END:VCALENDAR
