BEGIN:VCALENDAR
VERSION:2.0
PRODID:-//ChamberMaster//Event Calendar 2.0//EN
METHOD:PUBLISH
X-PUBLISHED-TTL:P3D
REFRESH-INTERVAL:P3D
CALSCALE:GREGORIAN
BEGIN:VEVENT
DTSTART:20131130T233000Z
DTEND:20131201T003000Z
X-MICROSOFT-CDO-ALLDAYEVENT:FALSE
SUMMARY:Christmas Lighted Parade
DESCRIPTION:Christmas Lighted Parade  -  Start your Christmas Holiday by watching this great lighted parade.  Lots of activities going on prior to the parade.\n\n\n\nhttp://www.sewardne.com
X-ALT-DESC;FMTTYPE=text/html:Christmas Lighted Parade&nbsp\; -&nbsp\; Start your Christmas Holiday by watching this great lighted parade.&nbsp\; Lots of activities going on prior to the parade.<br />\n<br />\n<a href="http://www.sewardne.com">http://www.sewardne.com</a>
LOCATION:Downtown Seward - Seward Street
UID:e.865.3371
SEQUENCE:3
DTSTAMP:20260421T175617Z
URL:https://business.cultivatesewardcounty.com/events/details/christmas-lighted-parade-11-30-2013-3371
END:VEVENT

END:VCALENDAR
