BEGIN:VCALENDAR
VERSION:2.0
PRODID:-//ChamberMaster//Event Calendar 2.0//EN
METHOD:PUBLISH
X-PUBLISHED-TTL:P3D
REFRESH-INTERVAL:P3D
CALSCALE:GREGORIAN
BEGIN:VEVENT
DTSTART:20121208T150000Z
DTEND:20121208T200000Z
X-MICROSOFT-CDO-ALLDAYEVENT:FALSE
SUMMARY:Christmas for Kids
DESCRIPTION:Children 4 years old through 6th grace learn the true meaning of Christmas with singing\, crafts and Bible lessons.
X-ALT-DESC;FMTTYPE=text/html:Children 4 years old through 6th grace learn the true meaning of Christmas with singing\, crafts and Bible lessons.
LOCATION:Grace Lutheran Church\, 746 Pinewood Ave. Seward
UID:e.865.1739
SEQUENCE:3
DTSTAMP:20260422T083901Z
URL:https://business.cultivatesewardcounty.com/events/details/christmas-for-kids-12-08-2012-1739
END:VEVENT

END:VCALENDAR
