BEGIN:VCALENDAR
VERSION:2.0
PRODID:-//ChamberMaster//Event Calendar 2.0//EN
METHOD:PUBLISH
X-PUBLISHED-TTL:P3D
REFRESH-INTERVAL:P3D
CALSCALE:GREGORIAN
BEGIN:VEVENT
DTSTART:20131207T010000Z
DTEND:20131207T030000Z
X-MICROSOFT-CDO-ALLDAYEVENT:FALSE
SUMMARY:Christmas at Concordia Concert
DESCRIPTION:Christmas at Concordia Concert\n\n\n\nDecember 6th  -  performance at 7:00 pm\n\nDecember 7th  -  performance at 3:00 pm and 7:00 pm\n\nDecember 8th  -  Performance at 3:00 pm\n\n\n\nhttp://www.cune.edu/Christmas
X-ALT-DESC;FMTTYPE=text/html:Christmas at Concordia Concert<br />\n<br />\n<strong>December 6th&nbsp\;</strong> -&nbsp\; performance at 7:00 pm<br />\n<strong>December 7th&nbsp\; </strong>-&nbsp\; performance at 3:00 pm and 7:00 pm<br />\n<strong>December 8th&nbsp\; -&nbsp\; </strong>Performance at 3:00 pm<br />\n<br />\n<a href="http://www.cune.edu/Christmas">http://www.cune.edu/Christmas</a><br />\n
LOCATION:St. John's Lutheran Church 919 North Columbia Ave. Seward\, NE
UID:e.865.3369
SEQUENCE:3
DTSTAMP:20260421T163152Z
URL:https://business.cultivatesewardcounty.com/events/details/christmas-at-concordia-concert-12-06-2013-3369
END:VEVENT

END:VCALENDAR
