BEGIN:VCALENDAR
VERSION:2.0
PRODID:-//ChamberMaster//Event Calendar 2.0//EN
METHOD:PUBLISH
X-PUBLISHED-TTL:P3D
REFRESH-INTERVAL:P3D
CALSCALE:GREGORIAN
BEGIN:VEVENT
DTSTART;VALUE=DATE:20110627
DTEND;VALUE=DATE:20110702
TRANSP:TRANSPARENT
X-MICROSOFT-CDO-ALLDAYEVENT:TRUE
SUMMARY:Chapters' Summer Day Camps
DESCRIPTION:Join us for supervised\, age-appropriate activities and snacks for all ages.  Activities include puppet play for ages 4-6\; readers' theatre for ages 7-10\; and a concert by Curt Bright of the String Beans for all ages.
X-ALT-DESC;FMTTYPE=text/html:Join us for supervised\, age-appropriate activities and snacks for all ages.  Activities include puppet play for ages 4-6\; readers' theatre for ages 7-10\; and a concert by Curt Bright of the String Beans for all ages. 
LOCATION:Chapters Books & Gifts 548 Seward Street Seward
UID:e.865.1070
SEQUENCE:3
DTSTAMP:20260424T215922Z
URL:https://business.cultivatesewardcounty.com/events/details/chapters-summer-day-camps-06-27-2011-1070
END:VEVENT

END:VCALENDAR
