BEGIN:VCALENDAR
VERSION:2.0
PRODID:-//ChamberMaster//Event Calendar 2.0//EN
METHOD:PUBLISH
X-PUBLISHED-TTL:P3D
REFRESH-INTERVAL:P3D
CALSCALE:GREGORIAN
BEGIN:VEVENT
DTSTART:20131130T193000Z
DTEND:20131130T203000Z
X-MICROSOFT-CDO-ALLDAYEVENT:FALSE
SUMMARY:Chapters Books & Gifts Guest Author - Mary K. Stillwell
DESCRIPTION:Chapters Guest Author  -  Mary K. Stillwell will talk about and sign her biography of Ted Kooser.\n\n\n\nhttp://www.sewardchapters.com
X-ALT-DESC;FMTTYPE=text/html:Chapters Guest Author&nbsp\; -&nbsp\; Mary K. Stillwell will talk about and sign her biography of Ted Kooser.<br />\n<br />\n<a href="http://www.sewardchapters.com">http://www.sewardchapters.com</a>
LOCATION:Chapters Book & Gifts 548 Seward St. Seward\, NE
UID:e.865.3319
SEQUENCE:3
DTSTAMP:20260421T180339Z
URL:https://business.cultivatesewardcounty.com/events/details/chapters-books-gifts-guest-author-mary-k-stillwell-11-30-2013-3319
END:VEVENT

END:VCALENDAR
