BEGIN:VCALENDAR
VERSION:2.0
PRODID:-//ChamberMaster//Event Calendar 2.0//EN
METHOD:PUBLISH
X-PUBLISHED-TTL:P3D
REFRESH-INTERVAL:P3D
CALSCALE:GREGORIAN
BEGIN:VEVENT
DTSTART:20131130T220000Z
DTEND:20131130T230000Z
X-MICROSOFT-CDO-ALLDAYEVENT:FALSE
SUMMARY:Chapters Books & Gifts Children's Storytime
DESCRIPTION:Chapters Books & Gifts Children's Storytime\n\n\n\nhttp://www.sewardchapters.com
X-ALT-DESC;FMTTYPE=text/html:Chapters Books &amp\; Gifts Children&#39\;s Storytime<br />\n<br />\n<a href="http://www.sewardchapters.com">http://www.sewardchapters.com</a>
LOCATION:Chapters Books & Gifts 548 Seward St Seward\, NE
UID:e.865.3320
SEQUENCE:3
DTSTAMP:20260421T180338Z
URL:https://business.cultivatesewardcounty.com/events/details/chapters-books-gifts-children-s-storytime-11-30-2013-3320
END:VEVENT

END:VCALENDAR
