BEGIN:VCALENDAR
VERSION:2.0
PRODID:-//ChamberMaster//Event Calendar 2.0//EN
METHOD:PUBLISH
X-PUBLISHED-TTL:P3D
REFRESH-INTERVAL:P3D
CALSCALE:GREGORIAN
BEGIN:VEVENT
DTSTART:20131008T164500Z
DTEND:20131008T180000Z
X-MICROSOFT-CDO-ALLDAYEVENT:FALSE
SUMMARY:Chamer of Commerce Membership Meeting
DESCRIPTION:Join us for our monthly Chamber Membership Meeting for a program on volunteerism. Our program will begin at 12 noon but we will begin serving lunch at 11:45 so come early if you can get away.
X-ALT-DESC;FMTTYPE=text/html:Join us for our monthly Chamber Membership Meeting for a program on volunteerism. Our program will begin at 12 noon but we will begin serving lunch at 11:45 so come early if you can get away.
LOCATION:Civic Center
UID:e.865.3261
SEQUENCE:3
DTSTAMP:20260421T204704Z
URL:https://business.cultivatesewardcounty.com/events/details/chamer-of-commerce-membership-meeting-10-08-2013-3261
END:VEVENT

END:VCALENDAR
