BEGIN:VCALENDAR
VERSION:2.0
PRODID:-//ChamberMaster//Event Calendar 2.0//EN
METHOD:PUBLISH
X-PUBLISHED-TTL:P3D
REFRESH-INTERVAL:P3D
CALSCALE:GREGORIAN
BEGIN:VEVENT
DTSTART:20130409T163000Z
DTEND:20130409T180000Z
X-MICROSOFT-CDO-ALLDAYEVENT:FALSE
SUMMARY:Chamber of Commerce Membership Luncheon
DESCRIPTION:The Chamber of Commerce is hosting it's annual Business Anniversary Luncheon. This luncheon recognizes Chamber business members celebrating anniversaries divisible by five this year.
X-ALT-DESC;FMTTYPE=text/html:The Chamber of Commerce is hosting it&#39\;s annual Business Anniversary Luncheon. This luncheon recognizes Chamber business members celebrating anniversaries divisible by five this year.&nbsp\;&nbsp\;&nbsp\; 
LOCATION:Seward Civic Center\, 616 Bradford Street
UID:e.865.1915
SEQUENCE:3
DTSTAMP:20260422T044850Z
URL:https://business.cultivatesewardcounty.com/events/details/chamber-of-commerce-membership-luncheon-04-09-2013-1915
END:VEVENT

END:VCALENDAR
