BEGIN:VCALENDAR
VERSION:2.0
PRODID:-//ChamberMaster//Event Calendar 2.0//EN
METHOD:PUBLISH
X-PUBLISHED-TTL:P3D
REFRESH-INTERVAL:P3D
CALSCALE:GREGORIAN
BEGIN:VEVENT
DTSTART:20140103T150000Z
DTEND:20140103T160000Z
X-MICROSOFT-CDO-ALLDAYEVENT:FALSE
SUMMARY:Chamber of Commerce Christmas Committee Meeting
DESCRIPTION:Monthly meeting of the Chambers Christmas Committee
X-ALT-DESC;FMTTYPE=text/html:Monthly meeting of the Chambers Christmas Committee
LOCATION:Civic Center
UID:e.865.3305
SEQUENCE:3
DTSTAMP:20260421T153649Z
URL:https://business.cultivatesewardcounty.com/events/details/chamber-of-commerce-christmas-committee-meeting-01-03-2014-3305
END:VEVENT

END:VCALENDAR
