BEGIN:VCALENDAR
VERSION:2.0
PRODID:-//ChamberMaster//Event Calendar 2.0//EN
METHOD:PUBLISH
X-PUBLISHED-TTL:P3D
REFRESH-INTERVAL:P3D
CALSCALE:GREGORIAN
BEGIN:VEVENT
DTSTART:20140610T170000Z
DTEND:20140610T180000Z
X-MICROSOFT-CDO-ALLDAYEVENT:FALSE
SUMMARY:Chamber Membership Luncheon - 4th of July Kick Off
DESCRIPTION:Join us for our monthly membership luncheon combined with the annual 4th of July Kickoff. The theme for this year's event is "There's no Place Like Home" honoring the 75th anniversary of The Wizard of Oz along with other great movies. Mr. Firecracker\, Miss Independence and runners-up will be introduced and plans for the annual festivities will be reviewed.
X-ALT-DESC;FMTTYPE=text/html:Join us for our monthly membership luncheon combined with the annual 4th of July Kickoff. The theme for this year&#39\;s event is &quot\;There&#39\;s no Place Like Home&quot\; honoring the 75th anniversary of The Wizard of Oz along with other great movies. Mr. Firecracker\, Miss Independence and runners-up will be introduced and plans for the annual festivities will be reviewed.
LOCATION:Civic Center Basement
UID:e.865.3481
SEQUENCE:3
DTSTAMP:20260421T083306Z
URL:https://business.cultivatesewardcounty.com/events/details/chamber-membership-luncheon-4th-of-july-kick-off-06-10-2014-3481
END:VEVENT

END:VCALENDAR
