BEGIN:VCALENDAR
VERSION:2.0
PRODID:-//ChamberMaster//Event Calendar 2.0//EN
METHOD:PUBLISH
X-PUBLISHED-TTL:P3D
REFRESH-INTERVAL:P3D
CALSCALE:GREGORIAN
BEGIN:VEVENT
DTSTART:20131210T180000Z
DTEND:20131210T190000Z
X-MICROSOFT-CDO-ALLDAYEVENT:FALSE
SUMMARY:Chamber Membership Luncheon
DESCRIPTION:Chamber of Commerce Membership Luncheon  -  Kari Janssen\, Workforce Coordinator with the Nebraska Department of Labor will be the speaker.  She will speaking on how you can expand your workforce for a fraction of the normal cost.
X-ALT-DESC;FMTTYPE=text/html:Chamber of Commerce Membership Luncheon&nbsp\; -&nbsp\; Kari Janssen\, Workforce Coordinator with the Nebraska Department of Labor will be the speaker.&nbsp\; She will speaking on how you can expand your workforce for a fraction of the normal cost.&nbsp\; 
LOCATION:Civic Center 616 Bradford St. Seward\, NE
UID:e.865.3324
SEQUENCE:3
DTSTAMP:20260421T162906Z
URL:https://business.cultivatesewardcounty.com/events/details/chamber-membership-luncheon-12-10-2013-3324
END:VEVENT

END:VCALENDAR
