BEGIN:VCALENDAR
VERSION:2.0
PRODID:-//ChamberMaster//Event Calendar 2.0//EN
METHOD:PUBLISH
X-PUBLISHED-TTL:P3D
REFRESH-INTERVAL:P3D
CALSCALE:GREGORIAN
BEGIN:VEVENT
DTSTART:20131112T180000Z
DTEND:20131112T190000Z
X-MICROSOFT-CDO-ALLDAYEVENT:FALSE
SUMMARY:Chamber Membership Luncheon
DESCRIPTION:Chamber of Commerce Membership Luncheon -  A TRIBUTE TO VETERANS.\n\nFeaturing Ret. Lt. Gen. Roger Lempke of the NE National Guard\, now Director of Military Affairs for Sen. Johanns' office. Turkey Dinner catered by Chartwells. Invite veterans along to be recognized and honored. Let the Chamber know the names of veterans you are bringing and branch of armed forces they served in . . . or let us know if you served!
X-ALT-DESC;FMTTYPE=text/html:Chamber of Commerce Membership Luncheon -&nbsp\; A TRIBUTE TO VETERANS.<br />\nFeaturing Ret. Lt. Gen. Roger Lempke of the NE National Guard\, now Director of Military Affairs for Sen. Johanns&#39\; office. Turkey Dinner catered by Chartwells. Invite veterans along to be recognized and honored. Let the Chamber know the names of veterans you are bringing and branch of armed forces they served in . . . or let us know if you served!
LOCATION:Olde Glory Community Hall 348 Jackson Street Seward\, NE
UID:e.865.3323
SEQUENCE:3
DTSTAMP:20260421T175816Z
URL:https://business.cultivatesewardcounty.com/events/details/chamber-membership-luncheon-11-12-2013-3323
END:VEVENT

END:VCALENDAR
