BEGIN:VCALENDAR
VERSION:2.0
PRODID:-//ChamberMaster//Event Calendar 2.0//EN
METHOD:PUBLISH
X-PUBLISHED-TTL:P3D
REFRESH-INTERVAL:P3D
CALSCALE:GREGORIAN
BEGIN:VEVENT
DTSTART:20140513T170000Z
DTEND:20140513T180000Z
X-MICROSOFT-CDO-ALLDAYEVENT:FALSE
SUMMARY:Chamber Membership Luncheon
DESCRIPTION:Join us for our monthly membership luncheon as Alessandra Jerolleman and Jeffrey Henson from JEO Consulting discuss emergency management and mitigation planning. How can you stay open\, or get open sooner\, if you lose water or power or after a spill\, tornado\, flood or other event? What's the right insurance coverage to sustain your business through a disaster? Come listen in to get the answers.
X-ALT-DESC;FMTTYPE=text/html:Join us for our monthly membership luncheon as Alessandra Jerolleman and Jeffrey Henson from JEO Consulting discuss emergency management and mitigation planning. How can you stay open\, or get open sooner\, if you lose water or power or after a spill\, tornado\, flood or other event? What&#39\;s the right insurance coverage to sustain your business through a disaster? Come listen in to get the answers.
LOCATION:Civic Center Basement
UID:e.865.3480
SEQUENCE:3
DTSTAMP:20260421T100343Z
URL:https://business.cultivatesewardcounty.com/events/details/chamber-membership-luncheon-05-13-2014-3480
END:VEVENT

END:VCALENDAR
