BEGIN:VCALENDAR
VERSION:2.0
PRODID:-//ChamberMaster//Event Calendar 2.0//EN
METHOD:PUBLISH
X-PUBLISHED-TTL:P3D
REFRESH-INTERVAL:P3D
CALSCALE:GREGORIAN
BEGIN:VEVENT
DTSTART:20140408T170000Z
DTEND:20140408T180000Z
X-MICROSOFT-CDO-ALLDAYEVENT:FALSE
SUMMARY:Chamber Membership Luncheon
DESCRIPTION:Join us for our annual program to recognize those who have been a part of the Seward business community as we highlight milestone anniversaries from 5 to 140 years
X-ALT-DESC;FMTTYPE=text/html:Join us for our annual program to recognize those who have been a part of the Seward business community as we highlight milestone anniversaries from 5 to 140 years
LOCATION:Civic Center Basement
UID:e.865.3479
SEQUENCE:3
DTSTAMP:20260421T125456Z
URL:https://business.cultivatesewardcounty.com/events/details/chamber-membership-luncheon-04-08-2014-3479
END:VEVENT

END:VCALENDAR
