BEGIN:VCALENDAR
VERSION:2.0
PRODID:-//ChamberMaster//Event Calendar 2.0//EN
METHOD:PUBLISH
X-PUBLISHED-TTL:P3D
REFRESH-INTERVAL:P3D
CALSCALE:GREGORIAN
BEGIN:VEVENT
DTSTART:20140311T170000Z
DTEND:20140311T180000Z
X-MICROSOFT-CDO-ALLDAYEVENT:FALSE
SUMMARY:Chamber Membership Luncheon
DESCRIPTION:Join us for our monthly Membership Luncheon and hear how Tax Increment Fiancing (TIF) and the Local Option Municipal Economic Development Act (LB840) can be powerful tools to start or grow a business. We'll cover the differences between the two\, how to determine which program(s) to use for particular types of projects and the steps in the programs' processes.
X-ALT-DESC;FMTTYPE=text/html:Join us for our monthly Membership Luncheon and hear how Tax Increment Fiancing (TIF) and the Local Option Municipal Economic Development Act (LB840) can be powerful tools to start or grow a business. We&#39\;ll cover the differences between the two\, how to determine which program(s) to use for particular types of projects and the steps in the programs&#39\; processes.
LOCATION:Civic Center Basement
UID:e.865.3478
SEQUENCE:3
DTSTAMP:20260421T130054Z
URL:https://business.cultivatesewardcounty.com/events/details/chamber-membership-luncheon-03-11-2014-3478
END:VEVENT

END:VCALENDAR
